View In:
ArcGIS JavaScript
ArcGIS Online Map Viewer
ArcGIS Earth
ArcMap
View Footprint In:
ArcGIS Online Map Viewer
Service Description: IMAGERY_HISTORICAL_PRE_1990/Kansas_1966_to_1968
Name: IMAGERY_HISTORICAL_PRE_1990/Kansas_1966_to_1968
Description:
Single Fused Map Cache: false
Extent:
XMin: -1.1059685648199914E7
YMin: 4441389.684300064
XMax: -1.0555125648200016E7
YMax: 4778940.684299995
Spatial Reference: 102100
(3857)
Initial Extent:
XMin: -1.1059685648199914E7
YMin: 4441389.684300064
XMax: -1.0555125648200016E7
YMax: 4778940.684299995
Spatial Reference: 102100
(3857)
Full Extent:
XMin: -1.1059685648199914E7
YMin: 4441389.684300064
XMax: -1.0555125648200016E7
YMax: 4778940.684299995
Spatial Reference: 102100
(3857)
Pixel Size X: 0.1999999999999594
Pixel Size Y: 0.19999999999995915
Band Count: 3
Pixel Type: U8
RasterFunction Infos: {"rasterFunctionInfos": [{
"name": "None",
"description": "",
"help": ""
}]}
Mensuration Capabilities: Basic
Has Histograms: false
Has Colormap: false
Has Multi Dimensions : false
Rendering Rule:
Min Scale: 0
Max Scale: 0
Copyright Text:
Service Data Type: esriImageServiceDataTypeRGB
Min Values: N/A
Max Values: N/A
Mean Values: N/A
Standard Deviation Values: N/A
Object ID Field: OBJECTID
Fields:
-
OBJECTID
(
type: esriFieldTypeOID, alias: OBJECTID
)
-
Shape
(
type: esriFieldTypeGeometry, alias: Shape
)
-
Category
(
type: esriFieldTypeInteger, alias: Category
, Coded Values:
[0: Unknown]
, [1: Primary]
, [2: Overview]
, ...6 more...
)
-
YEAR
(
type: esriFieldTypeString, alias: YEAR, length: 50
)
-
CITY
(
type: esriFieldTypeString, alias: CITY, length: 50
)
-
COUNTY
(
type: esriFieldTypeString, alias: COUNTY, length: 50
)
-
SOURCE
(
type: esriFieldTypeString, alias: SOURCE, length: 50
)
-
LEAF
(
type: esriFieldTypeString, alias: LEAF, length: 50
)
-
IMAGE
(
type: esriFieldTypeString, alias: IMAGE, length: 50
)
-
FIPSSTCO
(
type: esriFieldTypeString, alias: FIPSSTCO, length: 50
)
Default Mosaic Method: Northwest
Allowed Mosaic Methods: NorthWest,Center,LockRaster,ByAttribute,Nadir,Viewpoint,Seamline,None
SortField:
SortValue: null
Mosaic Operator: First
Default Compression Quality: 75
Default Resampling Method: Bilinear
Max Record Count: 1000
Max Image Height: 4100
Max Image Width: 15000
Max Download Image Count: 20
Max Mosaic Image Count: 20
Allow Raster Function: true
Allow Copy: null
Allow Analysis: null
Allow Compute TiePoints: false
Supports Statistics: true
Supports Advanced Queries: true
Use StandardizedQueries: true
Raster Type Infos:
Name: Raster Dataset
Description: Supports all ArcGIS Raster Datasets
Help:
Has Raster Attribute Table: false
Edit Fields Info: null
Ownership Based AccessControl For Rasters: null
Child Resources:
Info
Key Properties
Legend
Raster Function Infos
Supported Operations:
Export Image
Query
Identify
Measure
Compute Histograms
Compute Statistics Histograms
Get Samples
Compute Class Statistics
Query Boundary
Compute Pixel Location
Compute Angles
Validate
Project